Workbook

Sheet Index
E6: XBRL Excel Utility
E7: 1. | F7: Overview
E8: 2. | F8: Before you begin
E9: 3. | F9: Index
E10: 4. | F10: Steps for Filing Shareholding Pattern
E11: 5. | F11: Fill up the Shareholding Pattern
D14: 1. Overview
D15: The excel utility can be used for creating the XBRL/XML file for efiling of shareholding pattern.
D16: Shareholding pattern XBRL filling consists of two processes. Firstly generation of XBRL/XML file of the Shareholding pattern, and upload of generated XBRL/XML file to BSE Listing Center.
D19: 2. Before you begin
D20: 1. The version of Microsoft Excel in your system should be Microsoft Office Excel 2007 and above.
D21: 2. The system should have a file compression software to unzip excel utility file.
D22: 3. Make sure that you have downloaded the latest Excel Utility from BSE Website to your local system.
D23: 4. Make sure that you have downloaded the Chrome Browser to view report generated from Excel utility.
D24: 5. Please enable the Macros (if disabled) as per instructions given in manual, so that all the functionalities of Excel Utility works fine. Please first go through Enable Macro - Manual attached with zip file.
D25: 6. Kindly use this file in local system instead of OneDrive/shared drive. Because it may gives an error "Run-time error '52' : Bad file name or number" While clicking on textblock button if files saved on OneDrive/shared drive.
D28: 3. Index
D29: 1 | E29: Details of general information about company | J29: General Info
D30: 2 | E30: Declaration | J30: Declaration
D31: 3 | E31: Summary | J31: Summary
D32: 4 | E32: Shareholding Pattern | J32: Shareholding Pattern
D33: 5 | E33: Annexure B | J33: Annexure B
D36: 4. Steps for Filing Shareholding Pattern
D37: I. Fill up the data: Navigate to each field of every section in the sheet to provide applicable data in correct format. (Formats will get reflected while filling data.) - Use paste special command to paste data from other sheet.
D38: II. Validating Sheets: Click on the ''Validate " button to ensure that the sheet has been properly filled and also data has been furnished in proper format. If there are some errors on the sheet, excel utility will prompt you about the same.
D39: III. Validate All Sheets: Click on the ''Home" button. And then click on "Validate All Sheet" button to ensure that all sheets has been properly filled and validated successfully. If there are some errors on the sheet, excel utility will prompt you about the same and stop validation at the same time. After correction, once again follow the same procedure to validate all sheets.
D40: Excel Utility will not allow you to generate XBRL/XML until you rectify all errors.
D41: IV. Generate XML : Excel Utility will not allow you to generate XBRL/XML unless successful validation of all sheet is completed. Now click on 'Generate XML'' to generate XBRL/XML file. - Save the XBRL/XML file in your desired folder in local system.
D42: V. Generate Report : Excel Utility will allow you to generate Report. Now click on 'Generate Report'' to generate html report. - Save the HTML Report file in your desired folder in local system. - To view HTML Report open "Chrome Web Browser" . - To print report in PDF Format, Click on print button and save as PDF.
D43: VI. Upload XML file to BSE Listing Center: For uploading the XBRL/XML file generated through Utility, login to BSE Listing Center and upload generated xml file. On Upload screen provide the required information and browse to select XML file and submit the XML.
D46: 5. Fill up the Shareholding Pattern
D47: 1. Cells with red fonts indicate mandatory fields.
D48: 2. If mandatory field is left empty, then Utility will not allow you to proceed further for generating XML.
D49: 3. You are not allowed to enter data in the Grey Cells.
... D55: 9. Adding Notes: Click on "Add Notes" button to add notes

Sheet GeneralInfo
R1: Equity Shares | S1: Pre-listing | T1: June | U1: Yes | W1: Pre-listing
R2: Preference Shares | S2: Quarterly | T2: September | U2: No | W2: Capital Restructuring
R3: Differential Voting Rights | S3: Capital Restructuring | T3: December | W3: Half yearly
S4: Half yearly | T4: March | W4: Yearly
E5: General information about company | S5: Yearly
E6: Scrip code | F6: 523828
E7: NSE Symbol | F7: MENONBE | M7: Regulation 31 (1) (a) | X7: Yes
E8: MSEI Symbol | F8: NOTLISTED | M8: Regulation 31 (1) (b) | X8: No
E9: ISIN | F9: INE071D01033 | M9: Regulation 31 (1) (c)
E10: Name of the company | F10: MENON BEARINGS LIMITED | M10: Regulation 31 (1)
E11: Whether company is SME | F11: No
E12: Class of Security | F12: Equity Shares
E13: Type of report | F13: Quarterly
E14: Quarter Ended / Half year ended/Date of Report (For Prelisting / Allotment) | F14: 30-06-2025
E15: Date of allotment / extinguishment (in case Capital Restructuring selected) / Listing Date
E16: Shareholding pattern filed under | F16: =IF(F13=S1,M7,IF(F13=S2,M8,IF(F13=S3,M9,IF(F13=S4,M8,"")))) -> Regulation 31 (1) (b)
E17: Whether the listed entity is Public Sector Undertaking (PSU)? | F17: No

Sheet Declaration
T1: Micro@213Vista | U1: Yes
U2: No
D8: Sr. No. | E8: Particular | F8: Yes/No | G8: Promoter and Promoter Group | H8: Public shareholder | I8: Non Promoter- Non Public
D9: 1 | E9: Whether the Listed Entity has issued any partly paid up shares? | F9: No | G9: No | H9: No | I9: No | M9: 1 | N9: 1 | O9: 1 | P9: 1 | R9: Partly Paid Up Shares | S9: Partly Paid Up Shares PPG | T9: Partly Paid Up Shares Public | U9: Partly Paid Up Shares NPNP
D10: 2 | E10: Whether the Listed Entity has issued any Convertible Securities ? | F10: No | G10: No | H10: No | I10: No | M10: 1 | N10: 1 | O10: 1 | P10: 1 | R10: Convertible Securities | S10: Convertible Securities PPG | T10: Convertible Securities Public | U10: Convertible Securities NPNP
D11: 3 | E11: Whether the Listed Entity has issued any Warrants ? | F11: No | G11: No | H11: No | I11: No | M11: 1 | N11: 1 | O11: 1 | P11: 1 | R11: Warrants | S11: Warrants PPG | T11: Warrants Public | U11: Warrants NPNP
D12: 4 | E12: Whether Listed Entity has granted any ESOPs, which are outstanding? | F12: No | G12: No | H12: No | I12: No | M12: 1 | N12: 1 | O12: 1 | P12: 1 | R12: ESOP | S12: ESOP PPG | T12: ESOP Public | U12: ESOP NPNP
D13: 5 | E13: Whether the Listed Entity has any shares against which depository receipts are issued? | F13: No | G13: No | H13: No | I13: No | M13: 1 | N13: 1 | O13: 1 | P13: 1 | R13: Depository Receipts | S13: Depository Receipts PPG | T13: Depository Receipts Public | U13: Depository Receipts NPNP
D14: 6 | E14: Whether the Listed Entity has any shares in locked-in? | F14: No | G14: No | H14: No | I14: No | M14: 1 | N14: 1 | O14: 1 | P14: 1 | R14: Locked In | S14: Locked In PPG | T14: Locked In Public | U14: Locked In NPNP
D15: 7 | E15: Whether any shares held by promoters are encumbered under "Pledged"? | F15: No | G15: No | M15: 1 | N15: 1 | O15: 0 | P15: 0 | R15: Pledged | S15: Pledged PPG
D16: 8 | E16: Whether any shares held by promoters are encumbered under "Non-Disposal Undertaking"? | F16: No | G16: No | M16: 1 | N16: 1 | R16: NonDisposal Undertaking | S16: NonDisposal Undertaking PPG
D17: 9 | E17: Whether any shares held by promoters are encumbered, other than by way of Pledge or NDU, if any? | F17: No | G17: No | M17: 1 | N17: 1 | R17: Other encumbrances | S17: Other encumbrances PPG
D18: 10 | E18: Whether company has equity shares with differential voting rights? | F18: No | G18: No | H18: No | I18: No | M18: 1 | N18: 1 | O18: 1 | P18: 1 | R18: Voting Rights | S18: Voting Rights PPG | T18: Voting Rights Public | U18: Voting Rights NPNP
D19: 11 | E19: Whether the listed entity has any significant beneficial owner? | F19: Yes | M19: 0 | R19: Whether the listed entity has any significant beneficial owner?

Sheet Summary
G2: Number of shareholders | H2: Number of fully paid up equity shares | I2: Number of partly paid-up equity shares | J2: Number of shares underlying outstanding depository receipts | K2: Total number of shares | L2: Shareholding as a percentage of total number of shares held by promoters and public shareholders and custodians or DR holders | M2: Number of voting rights held by same class of securities | N2: Number of voting rights held by differential voting rights | O2: Total Number of voting rights | P2: Percentage of total number of voting rights | Q2: Number of shares underlying outstanding convertible securities | R2: Number of warrant | S2: Number of shares underlying outstanding ESOP granted | T2: Total Number of shares underlying outstanding convertible securities, warrants and ESOP | U2: Total number of shares on fully diluted basis including warrants, ESOP and convertible securities | V2: Total shareholding as a percentage assuming full conversion of convertible securities, warrants and ESOP | W2: Number of the locked-in-shares | X2: Locked-in-shares as a percentage of total number of shares | Y2: Number of shares encumbered under pledged | Z2: Encumbered share under pledged as percentage of total number of shares | AA2: Number of shares encumbered under non disposal undertaking | AB2: Encumbered share under non disposal undertaking as percentage of total number of shares | AC2: Number of shares encumbered under other encumbrances | AD2: Encumbered share under other encumbrances as percentage of total number of shares | AE2: Total number of shares encumbered | AF2: Encumbered shares held as percentage of total number of shares | AG2: Number of equity shares held in dematerialized form | AH2: Number of share under sub category one | AI2: Number of share under sub category two | AJ2: Number of share under sub category three
E8: Table I - Summary Statement holding of specified securities
E9: Note : Data will be automatically populated from shareholding pattern sheet - Data Entry Restricted in this sheet
E10: Category (I) | F10: Category of shareholder (II) | G10: Nos. Of shareholders (III) | H10: No. of fully paid up equity shares held (IV) | I10: No. Of Partly paid-up equity shares held (V) | J10: No. Of shares underlying Depository Receipts (VI) | K10: Total nos. shares held (VII) = (IV)+(V)+ (VI) | L10: Shareholding as a % of total no. of shares (calculated as per SCRR, 1957) (VIII) As a % of (A+B+C2) | M10: Number of Voting Rights held in each class of securities (IX) | Q10: No. Of Shares Underlying Outstanding convertible securities (XA) | R10: No. of Shares Underlying Outstanding Warrants (XB) | S10: No. Of Outstanding ESOP Granted (XC) | T10: No. of Shares Underlying Outstanding convertible securities, No. of Warrants and ESOP etc. (X) = (XA+XB+XC) | U10: Total No. of shares on fully diluted basis (including warrants, ESOP, Convertible Securities etc.) (XI)=(VII+X) | V10: Shareholding , as a % assuming full conversion of convertible securities ( as a percentage of diluted share capital) (XII)= (VII)+(X) As a % of (A+B+C2) | W10: Number of Locked in shares (XIII) | Y10: Number of Shares pledged (XIV) | AA10: Non-Disposal Undertaking (XV) | AC10: Other encumbrances, if any (XVI) | AE10: Total Number of Shares encumbered (XVII) = (XIV+XV+XVI) | AG10: Number of equity shares held in dematerialized form (XVIII) | AH10: Sub-categorization of shares
M11: No of Voting (XIV) Rights | P11: Total as a % of (A+B+C) | AH11: Shareholding (No. of shares) under
M12: Class eg:X | N12: Class eg:Y | O12: Total | W12: No. (a) | X12: As a % of total Shares held (b) | Y12: No. (a) | Z12: As a % of total Shares held (b) | AA12: No. (a) | AB12: As a % of total Shares held (b) | AC12: No. (a) | AD12: As a % of total Shares held (b) | AE12: No. (a) | AF12: As a % of total Shares held (b) | AH12: Sub-category (i) | AI12: Sub-category (ii) | AJ12: Sub-category (iii)
E13: (A) | F13: Promoter & Promoter Group | G13: =+IFERROR(IF(COUNT('Shareholding Pattern'!H26),('Shareholding Pattern'!H26),""),"") -> 5 | H13: =+IFERROR(IF(COUNT('Shareholding Pattern'!I26),('Shareholding Pattern'!I26),""),"") -> 38355174 | I13: =+IFERROR(IF(COUNT('Shareholding Pattern'!J26),('Shareholding Pattern'!J26),""),"") | J13: =+IFERROR(IF(COUNT('Shareholding Pattern'!K26),('Shareholding Pattern'!K26),""),"") | K13: =+IFERROR(IF(COUNT('Shareholding Pattern'!L26),('Shareholding Pattern'!L26),""),"") -> 38355174 | L13: =+IFERROR(IF(COUNT('Shareholding Pattern'!M26),('Shareholding Pattern'!M26),""),"") -> 68.44 | M13: =+IFERROR(IF(COUNT('Shareholding Pattern'!N26),('Shareholding Pattern'!N26),""),"") -> 38355174 | N13: =+IFERROR(IF(COUNT('Shareholding Pattern'!O26),('Shareholding Pattern'!O26),""),"") | ... AG13: =+IFERROR(IF(COUNT('Shareholding Pattern'!AH26),('Shareholding Pattern'!AH26),""),"") -> 38355174
E14: (B) | F14: Public | G14: =+IFERROR(IF(COUNT('Shareholding Pattern'!H71),('Shareholding Pattern'!H71),""),"") -> 26855 | H14: =+IFERROR(IF(COUNT('Shareholding Pattern'!I71),('Shareholding Pattern'!I71),""),"") -> 17684826 | I14: =+IFERROR(IF(COUNT('Shareholding Pattern'!J71),('Shareholding Pattern'!J71),""),"") | J14: =+IFERROR(IF(COUNT('Shareholding Pattern'!K71),('Shareholding Pattern'!K71),""),"") | K14: =+IFERROR(IF(COUNT('Shareholding Pattern'!L71),('Shareholding Pattern'!L71),""),"") -> 17684826 | L14: =+IFERROR(IF(COUNT('Shareholding Pattern'!M71),('Shareholding Pattern'!M71),""),"") -> 31.56 | M14: =+IFERROR(IF(COUNT('Shareholding Pattern'!N71),('Shareholding Pattern'!N71),""),"") -> 17684826 | N14: =+IFERROR(IF(COUNT('Shareholding Pattern'!O71),('Shareholding Pattern'!O71),""),"") | ... X14: =+IFERROR(IF(COUNT('Shareholding Pattern'!Y71),('Shareholding Pattern'!Y71),""),"") | AG14: =+IFERROR(IF(COUNT('Shareholding Pattern'!AH71),('Shareholding Pattern'!AH71),""),"") -> 16113402 | AH14: =+IFERROR(IF(COUNT('Shareholding Pattern'!AI71),('Shareholding Pattern'!AI71),""),"") -> 0 | AI14: =+IFERROR(IF(COUNT('Shareholding Pattern'!AJ71),('Shareholding Pattern'!AJ71),""),"") -> 0 | AJ14: =+IFERROR(IF(COUNT('Shareholding Pattern'!AK71),('Shareholding Pattern'!AK71),""),"") -> 0
E15: (C) | F15: Non Promoter- Non Public | G15: =+IFERROR(IF(COUNT('Shareholding Pattern'!H77),('Shareholding Pattern'!H77),""),"") | H15: =+IFERROR(IF(COUNT('Shareholding Pattern'!I77),('Shareholding Pattern'!I77),""),"") | I15: =+IFERROR(IF(COUNT('Shareholding Pattern'!J77),('Shareholding Pattern'!J77),""),"") | J15: =+IFERROR(IF(COUNT('Shareholding Pattern'!K77),('Shareholding Pattern'!K77),""),"") | K15: =+IFERROR(IF(COUNT('Shareholding Pattern'!L77),('Shareholding Pattern'!L77),""),"") | M15: =+IFERROR(IF(COUNT('Shareholding Pattern'!N77),('Shareholding Pattern'!N77),""),"") | N15: =+IFERROR(IF(COUNT('Shareholding Pattern'!O77),('Shareholding Pattern'!O77),""),"") | O15: =+IFERROR(IF(COUNT('Shareholding Pattern'!P77),('Shareholding Pattern'!P77),""),"") | P15: =+IFERROR(IF(COUNT('Shareholding Pattern'!Q77),('Shareholding Pattern'!Q77),""),"") | Q15: =+IFERROR(IF(COUNT('Shareholding Pattern'!R77),('Shareholding Pattern'!R77),""),"") | R15: =+IFERROR(IF(COUNT('Shareholding Pattern'!S77),('Shareholding Pattern'!S77),""),"") | S15: =+IFERROR(IF(COUNT('Shareholding Pattern'!T77),('Shareholding Pattern'!T77),""),"") | T15: =+IFERROR(IF(COUNT('Shareholding Pattern'!U77),('Shareholding Pattern'!U77),""),"") | U15: =+IFERROR(IF(COUNT('Shareholding Pattern'!V77),('Shareholding Pattern'!V77),""),"") | W15: =+IFERROR(IF(COUNT('Shareholding Pattern'!X77),('Shareholding Pattern'!X77),""),"") | X15: =+IFERROR(IF(COUNT('Shareholding Pattern'!Y77),('Shareholding Pattern'!Y77),""),"") | AG15: =+IFERROR(IF(COUNT('Shareholding Pattern'!AH77),('Shareholding Pattern'!AH77),""),"")
E16: (C1) | F16: Shares underlying DRs | G16: =+IFERROR(IF(COUNT('Shareholding Pattern'!H75),('Shareholding Pattern'!H75),""),"") | H16: =+IFERROR(IF(COUNT('Shareholding Pattern'!I75),('Shareholding Pattern'!I75),""),"") | I16: =+IFERROR(IF(COUNT('Shareholding Pattern'!J75),('Shareholding Pattern'!J75),""),"") | J16: =+IFERROR(IF(COUNT('Shareholding Pattern'!K75),('Shareholding Pattern'!K75),""),"") | K16: =+IFERROR(IF(COUNT('Shareholding Pattern'!L75),('Shareholding Pattern'!L75),""),"") | M16: =+IFERROR(IF(COUNT('Shareholding Pattern'!N75),('Shareholding Pattern'!N75),""),"") | N16: =+IFERROR(IF(COUNT('Shareholding Pattern'!O75),('Shareholding Pattern'!O75),""),"") | O16: =+IFERROR(IF(COUNT('Shareholding Pattern'!P75),('Shareholding Pattern'!P75),""),"") | P16: =+IFERROR(IF(COUNT('Shareholding Pattern'!Q75),('Shareholding Pattern'!Q75),""),"") | Q16: =+IFERROR(IF(COUNT('Shareholding Pattern'!R75),('Shareholding Pattern'!R75),""),"") | R16: =+IFERROR(IF(COUNT('Shareholding Pattern'!S75),('Shareholding Pattern'!S75),""),"") | S16: =+IFERROR(IF(COUNT('Shareholding Pattern'!T75),('Shareholding Pattern'!T75),""),"") | T16: =+IFERROR(IF(COUNT('Shareholding Pattern'!U75),('Shareholding Pattern'!U75),""),"") | U16: =+IFERROR(IF(COUNT('Shareholding Pattern'!V75),('Shareholding Pattern'!V75),""),"") | W16: =+IFERROR(IF(COUNT('Shareholding Pattern'!X75),('Shareholding Pattern'!X75),""),"") | X16: =+IFERROR(IF(COUNT('Shareholding Pattern'!Y75),('Shareholding Pattern'!Y75),""),"") | AG16: =+IFERROR(IF(COUNT('Shareholding Pattern'!AH75),('Shareholding Pattern'!AH75),""),"")
E17: (C2) | F17: Shares held by Employee Trusts | G17: =+IFERROR(IF(COUNT('Shareholding Pattern'!H76),('Shareholding Pattern'!H76),""),"") | H17: =+IFERROR(IF(COUNT('Shareholding Pattern'!I76),('Shareholding Pattern'!I76),""),"") | I17: =+IFERROR(IF(COUNT('Shareholding Pattern'!J76),('Shareholding Pattern'!J76),""),"") | J17: =+IFERROR(IF(COUNT('Shareholding Pattern'!K76),('Shareholding Pattern'!K76),""),"") | K17: =+IFERROR(IF(COUNT('Shareholding Pattern'!L76),('Shareholding Pattern'!L76),""),"") | L17: =+IFERROR(IF(COUNT('Shareholding Pattern'!M76),('Shareholding Pattern'!M76),""),"") | M17: =+IFERROR(IF(COUNT('Shareholding Pattern'!N76),('Shareholding Pattern'!N76),""),"") | N17: =+IFERROR(IF(COUNT('Shareholding Pattern'!O76),('Shareholding Pattern'!O76),""),"") | ... X17: =+IFERROR(IF(COUNT('Shareholding Pattern'!Y76),('Shareholding Pattern'!Y76),""),"") | AG17: =+IFERROR(IF(COUNT('Shareholding Pattern'!AH76),('Shareholding Pattern'!AH76),""),"")
F18: Total | G18: =+IFERROR(IF(COUNT('Shareholding Pattern'!H79),('Shareholding Pattern'!H79),""),"") -> 26860 | H18: =+IFERROR(IF(COUNT('Shareholding Pattern'!I79),('Shareholding Pattern'!I79),""),"") -> 56040000 | I18: =+IFERROR(IF(COUNT('Shareholding Pattern'!J79),('Shareholding Pattern'!J79),""),"") | J18: =+IFERROR(IF(COUNT('Shareholding Pattern'!K79),('Shareholding Pattern'!K79),""),"") | K18: =+IFERROR(IF(COUNT('Shareholding Pattern'!L79),('Shareholding Pattern'!L79),""),"") -> 56040000 | L18: =+IFERROR(IF(COUNT('Shareholding Pattern'!M79),('Shareholding Pattern'!M79),""),"") -> 100 | M18: =+IFERROR(IF(COUNT('Shareholding Pattern'!N79),('Shareholding Pattern'!N79),""),"") -> 56040000 | N18: =+IFERROR(IF(COUNT('Shareholding Pattern'!O79),('Shareholding Pattern'!O79),""),"") | ... AJ18: =+IFERROR(IF(COUNT('Shareholding Pattern'!AK79),('Shareholding Pattern'!AK79),""),"") -> 0

Sheet Shareholding Pattern
H2: Number of shareholders | I2: Number of fully paid up equity shares | J2: Number of partly paid-up equity shares | K2: Number of shares underlying outstanding depository receipts | L2: Total number of shares | M2: Shareholding as a percentage of total number of shares held by promoters and public shareholders and custodians or DR holders | N2: Number of voting rights held by same class of securities | O2: Number of voting rights held by differential voting rights | P2: Total Number of voting rights | Q2: Percentage of total number of voting rights | R2: Number of shares underlying outstanding convertible securities | S2: Number of shares underlying outstanding warrants | T2: Number Of Outstanding ESOP Granted | U2: Total Number of shares underlying outstanding convertible securities, warrants and ESOP | V2: Total number of shares on fully diluted basis including warrants, ESOP and convertible securities | W2: Total shareholding as a percentage assuming full conversion of convertible securities, warrants and ESOP | X2: Number of the locked-in-shares | Y2: Locked-in-shares as a percentage of total number of shares | Z2: Number of shares encumbered under pledged | AA2: Encumbered share under pledged as percentage of total number of shares | AB2: Number of shares encumbered under non disposal undertaking | AC2: Encumbered share under non disposal undertaking as percentage of total number of shares | AD2: Number of shares encumbered under other encumbrances | AE2: Encumbered share under other encumbrances as percentage of total number of shares | AF2: Total number of shares encumbered | AG2: Encumbered shares held as percentage of total number of shares | AH2: Number of equity shares held in dematerialized form | AI2: Number of share under sub category one | AJ2: Number of share under sub category two | AK2: Number of share under sub category three
E9: Sr. No. | F9: Category & Name of the Shareholders (I) | H9: Nos. Of shareholders (III) | I9: No. of fully paid up equity shares held (IV) | J9: No. Of Partly paid-up equity shares held (V) | K9: No. Of shares underlying Depository Receipts (VI) | L9: Total nos. shares held (VII) = (IV)+(V)+ (VI) | M9: Shareholding as a % of total no. of shares (calculated as per SCRR, 1957) (VIII) As a % of (A+B+C2) | N9: Number of Voting Rights held in each class of securities (IX) | R9: No. Of Shares Underlying Outstanding convertible securities (XA) | S9: No. of Shares Underlying Outstanding Warrants (XB) | T9: No. Of Outstanding ESOP Granted (XC) | U9: No. of Shares Underlying Outstanding convertible securities, No. of Warrants and ESOP etc. (X) = (XA+XB+XC) | V9: Total No. of shares on fully diluted basis (including warrants, ESOP, Convertible Securities etc.) (XI)=(VII+X) | W9: Shareholding , as a % assuming full conversion of convertible securities ( as a percentage of diluted share capital) (XII)= (VII)+(X) As a % of (A+B+C2) | X9: Number of Locked in shares (XIII) | Z9: Number of Shares pledged (XIV) | AB9: Non-Disposal Undertaking (XV) | AD9: Other encumbrances, if any (XVI) | AF9: Total Number of Shares encumbered (XVII) = (XIV+XV+XVI) | AH9: Number of equity shares held in dematerialized form (XVIII) | AI9: Sub-categorization of shares
N10: No of Voting (XIV) Rights | Q10: Total as a % of Total Voting rights | AI10: Shareholding (No. of shares) under
N11: Class eg: X | O11: Class eg:Y | P11: Total | X11: No. (a) | Y11: As a % of total Shares held (b) | Z11: No. (a) | AA11: As a % of total Shares held (b) | AB11: No. (a) | AC11: As a % of total Shares held (b) | AD11: No. (a) | AE11: As a % of total Shares held (b) | AF11: No. (a) | AG11: As a % of total Shares held (b) | AI11: Sub-category (i) | AJ11: Sub-category (ii) | AK11: Sub-category (iii)
E12: A | F12: Table II - Statement showing shareholding pattern of the Promoter and Promoter Group
E13: (1) | F13: Indian
E14: (a) | F14: Individuals/Hindu undivided Family | H14: =IFERROR(IF(COUNT(IndHUF!$AL$13),IF(IndHUF!$AL$13=0,"0",IndHUF!$AL$13),""),"") -> 4 | I14: =+IF(COUNT(IndHUF!H20),IndHUF!H20,"") -> 24735374 | J14: =+IF(COUNT(IndHUF!I20),IndHUF!I20,"") | K14: =+IF(COUNT(IndHUF!J20),IndHUF!J20,"") | L14: =+IF(COUNT(IndHUF!K20),IndHUF!K20,"") -> 24735374 | M14: =+IFERROR(IF(COUNT(L14),ROUND(L14/'Shareholding Pattern'!$L$78*100,2),""),0) -> 44.14 | N14: =+IF(COUNT(+IndHUF!M20),SUM(+IndHUF!M20),"") -> 24735374 | O14: =+IF(COUNT(+IndHUF!N20),SUM(+IndHUF!N20),"") | P14: =+IF(COUNT(IndHUF!O20),IndHUF!O20,"") -> 24735374 | Q14: =+IF(COUNT(IndHUF!P20),IndHUF!P20,"") -> 44.14 | R14: =+IF(COUNT(IndHUF!Q20),IndHUF!Q20,"") | S14: =+IF(COUNT(IndHUF!R20),IndHUF!R20,"") | T14: =+IF(COUNT(IndHUF!S20),IndHUF!S20,"") | U14: =+IF(COUNT(IndHUF!T20),IndHUF!T20,"") | V14: =+IF(COUNT(IndHUF!U20),IndHUF!U20,"") -> 24735374 | W14: =+IFERROR(IF(COUNT(L14,U14),ROUND(SUM(L14,U14)/SUM('Shareholding Pattern'!$L$78,'Shareholding Pattern'!$U$78)*100,2),""),0) -> 44.14 | X14: =+IF(COUNT(IndHUF!W20),IndHUF!W20,"") | Y14: =+IFERROR(IF(COUNT(X14),ROUND(SUM(X14)/SUM(L14)*100,2),""),0) | Z14: =+IF(COUNT(IndHUF!Y20),IndHUF!Y20,"") | AA14: =+IFERROR(IF(COUNT(Z14),ROUND(SUM(Z14)/SUM(L14)*100,2),""),0) | AB14: =+IF(COUNT(IndHUF!AA20),IndHUF!AA20,"") | AC14: =+IFERROR(IF(COUNT(AB14),ROUND(SUM(AB14)/SUM(L14)*100,2),""),0) | AD14: =+IF(COUNT(IndHUF!AC20),IndHUF!AC20,"") | AE14: =+IFERROR(IF(COUNT(AD14),ROUND(SUM(AD14)/SUM(L14)*100,2),""),0) | AF14: =+IF(COUNT(IndHUF!AE20),IndHUF!AE20,"") | AG14: =+IFERROR(IF(COUNT(AF14),ROUND(SUM(AF14)/SUM(L14)*100,2),""),0) | AH14: =+IF(COUNT(IndHUF!AG20),IndHUF!AG20,"") -> 24735374 | AP14: IndHUF | AZ14: Individuals or Hindu undivided family [Member] | BF14: IndHUF | BH14: IndividualsOrHUFDomain | BN14: DetailsSharesHeldByIndividualsOrHUFAxis
E15: (b) | F15: Central Government/ State Government(s) | H15: =IFERROR(IF(COUNT(CGAndSG!$AL$13),IF(CGAndSG!$AL$13=0,"0",CGAndSG!$AL$13),""),"") | I15: =IFERROR(IF(COUNT(CGAndSG!H16),(CGAndSG!H16),""),"") | J15: =IFERROR(IF(COUNT(CGAndSG!I16),(CGAndSG!I16),""),"") | K15: =IFERROR(IF(COUNT(CGAndSG!J16),(CGAndSG!J16),""),"") | L15: =IFERROR(IF(COUNT(CGAndSG!K16),(CGAndSG!K16),""),"") | M15: =+IFERROR(IF(COUNT(L15),ROUND(L15/'Shareholding Pattern'!$L$78*100,2),""),0) | N15: =IFERROR(IF(COUNT(CGAndSG!M16),(CGAndSG!M16),""),"") | O15: =IFERROR(IF(COUNT(CGAndSG!N16),(CGAndSG!N16),""),"") | P15: =IFERROR(IF(COUNT(CGAndSG!O16),(CGAndSG!O16),""),"") | Q15: =IFERROR(IF(COUNT(CGAndSG!P16),(CGAndSG!P16),""),0) | R15: =IFERROR(IF(COUNT(CGAndSG!Q16),(CGAndSG!Q16),""),"") | S15: =IFERROR(IF(COUNT(CGAndSG!R16),(CGAndSG!R16),""),"") | T15: =IFERROR(IF(COUNT(CGAndSG!S16),(CGAndSG!S16),""),"") | U15: =IFERROR(IF(COUNT(CGAndSG!T16),(CGAndSG!T16),""),"") | V15: =IFERROR(IF(COUNT(CGAndSG!U16),(CGAndSG!U16),""),"") | W15: =+IFERROR(IF(COUNT(L15,U15),ROUND(SUM(L15,U15)/SUM('Shareholding Pattern'!$L$78,'Shareholding Pattern'!$U$78)*100,2),""),0) | X15: =IFERROR(IF(COUNT(CGAndSG!W16),(CGAndSG!W16),""),"") | Y15: =+IFERROR(IF(COUNT(X15),ROUND(SUM(X15)/SUM(L15)*100,2),""),0) | Z15: =IFERROR(IF(COUNT(CGAndSG!Y16),(CGAndSG!Y16),""),"") | AA15: =+IFERROR(IF(COUNT(Z15),ROUND(SUM(Z15)/SUM(L15)*100,2),""),0) | AB15: =IFERROR(IF(COUNT(CGAndSG!AA16),(CGAndSG!AA16),""),"") | AC15: =+IFERROR(IF(COUNT(AB15),ROUND(SUM(AB15)/SUM(L15)*100,2),""),0) | AD15: =IFERROR(IF(COUNT(CGAndSG!AC16),(CGAndSG!AC16),""),"") | AE15: =+IFERROR(IF(COUNT(AD15),ROUND(SUM(AD15)/SUM(L15)*100,2),""),0) | AF15: =IFERROR(IF(COUNT(CGAndSG!AE16),(CGAndSG!AE16),""),"") | AG15: =+IFERROR(IF(COUNT(AF15),ROUND(SUM(AF15)/SUM(L15)*100,2),""),0) | AH15: =IFERROR(IF(COUNT(CGAndSG!AG16),(CGAndSG!AG16),""),"") | AP15: CGAndSG | AZ15: Central government or State government(s) [Member] | BF15: CGAndSG | BH15: CentralGovernmentOrStateGovernmentsDomain | BN15: DetailsOfSharesHeldByCentralGovernmentOrStateGovernmentsAxis
E16: (c) | F16: Financial Institutions/ Banks | H16: =IFERROR(IF(COUNT(Banks!$AL$13),IF(Banks!$AL$13=0,"0",Banks!$AL$13),""),"") | I16: =IFERROR(IF(COUNT(Banks!H16),(Banks!H16),""),"") | J16: =IFERROR(IF(COUNT(Banks!I16),(Banks!I16),""),"") | K16: =IFERROR(IF(COUNT(Banks!J16),(Banks!J16),""),"") | L16: =IFERROR(IF(COUNT(Banks!K16),(Banks!K16),""),"") | M16: =+IFERROR(IF(COUNT(L16),ROUND(L16/'Shareholding Pattern'!$L$78*100,2),""),0) | N16: =IFERROR(IF(COUNT(Banks!M16),(Banks!M16),""),"") | O16: =IFERROR(IF(COUNT(Banks!N16),(Banks!N16),""),"") | P16: =IFERROR(IF(COUNT(Banks!O16),(Banks!O16),""),"") | Q16: =IFERROR(IF(COUNT(Banks!P16),(Banks!P16),""),0) | R16: =IFERROR(IF(COUNT(Banks!Q16),(Banks!Q16),""),"") | S16: =IFERROR(IF(COUNT(Banks!R16),(Banks!R16),""),"") | T16: =IFERROR(IF(COUNT(Banks!S16),(Banks!S16),""),"") | U16: =IFERROR(IF(COUNT(Banks!T16),(Banks!T16),""),"") | V16: =IFERROR(IF(COUNT(Banks!U16),(Banks!U16),""),"") | W16: =+IFERROR(IF(COUNT(L16,U16),ROUND(SUM(L16,U16)/SUM('Shareholding Pattern'!$L$78,'Shareholding Pattern'!$U$78)*100,2),""),0) | X16: =IFERROR(IF(COUNT(Banks!W16),(Banks!W16),""),"") | Y16: =+IFERROR(IF(COUNT(X16),ROUND(SUM(X16)/SUM(L16)*100,2),""),0) | Z16: =IFERROR(IF(COUNT(Banks!Y16),(Banks!Y16),""),"") | AA16: =+IFERROR(IF(COUNT(Z16),ROUND(SUM(Z16)/SUM(L16)*100,2),""),0) | AB16: =IFERROR(IF(COUNT(Banks!AA16),(Banks!AA16),""),"") | AC16: =+IFERROR(IF(COUNT(AB16),ROUND(SUM(AB16)/SUM(L16)*100,2),""),0) | AD16: =IFERROR(IF(COUNT(Banks!AC16),(Banks!AC16),""),"") | AE16: =+IFERROR(IF(COUNT(AD16),ROUND(SUM(AD16)/SUM(L16)*100,2),""),0) | AF16: =IFERROR(IF(COUNT(Banks!AE16),(Banks!AE16),""),"") | AG16: =+IFERROR(IF(COUNT(AF16),ROUND(SUM(AF16)/SUM(L16)*100,2),""),0) | AH16: =IFERROR(IF(COUNT(Banks!AG16),(Banks!AG16),""),"") | AP16: Banks | AZ16: Indian - financial institutions or banks [Member] | BF16: Banks | BH16: IndianFinancialInstitutionsOrBanksDomain | BN16: DetailsOfSharesHeldByIndianFinancialInstitutionsOrBanksAxis
E17: (d) | F17: Any Other (specify) | H17: =IFERROR(IF(COUNT(OtherIND!$AO$13),IF(OtherIND!$AO$13=0,"0",OtherIND!$AO$13),""),"") -> 1 | I17: =IFERROR(IF(COUNT(OtherIND!J17),(OtherIND!J17),""),"") -> 13619800 | J17: =IFERROR(IF(COUNT(OtherIND!K17),(OtherIND!K17),""),"") | K17: =IFERROR(IF(COUNT(OtherIND!L17),(OtherIND!L17),""),"") | L17: =IFERROR(IF(COUNT(OtherIND!M17),(OtherIND!M17),""),"") -> 13619800 | M17: =+IFERROR(IF(COUNT(L17),ROUND(L17/'Shareholding Pattern'!$L$78*100,2),""),0) -> 24.3 | N17: =IFERROR(IF(COUNT(OtherIND!O17),(OtherIND!O17),""),"") -> 13619800 | O17: =IFERROR(IF(COUNT(OtherIND!P17),(OtherIND!P17),""),"") | P17: =IFERROR(IF(COUNT(OtherIND!Q17),(OtherIND!Q17),""),"") -> 13619800 | Q17: =IFERROR(IF(COUNT(OtherIND!R17),(OtherIND!R17),""),0) -> 24.3 | R17: =IFERROR(IF(COUNT(OtherIND!S17),(OtherIND!S17),""),"") | S17: =IFERROR(IF(COUNT(OtherIND!T17),(OtherIND!T17),""),"") | T17: =IFERROR(IF(COUNT(OtherIND!U17),(OtherIND!U17),""),"") | U17: =IFERROR(IF(COUNT(OtherIND!V17),(OtherIND!V17),""),"") | V17: =IFERROR(IF(COUNT(OtherIND!W17),(OtherIND!W17),""),"") -> 13619800 | W17: =+IFERROR(IF(COUNT(L17,U17),ROUND(SUM(L17,U17)/SUM('Shareholding Pattern'!$L$78,'Shareholding Pattern'!$U$78)*100,2),""),0) -> 24.3 | X17: =IFERROR(IF(COUNT(OtherIND!Y17),(OtherIND!Y17),""),"") | Y17: =+IFERROR(IF(COUNT(X17),ROUND(SUM(X17)/SUM(L17)*100,2),""),0) | Z17: =IFERROR(IF(COUNT(OtherIND!AA17),(OtherIND!AA17),""),"") | AA17: =+IFERROR(IF(COUNT(Z17),ROUND(SUM(Z17)/SUM(L17)*100,2),""),0) | AB17: =IFERROR(IF(COUNT(OtherIND!AC17),(OtherIND!AC17),""),"") | AC17: =+IFERROR(IF(COUNT(AB17),ROUND(SUM(AB17)/SUM(L17)*100,2),""),0) | AD17: =IFERROR(IF(COUNT(OtherIND!AE17),(OtherIND!AE17),""),"") | AE17: =+IFERROR(IF(COUNT(AD17),ROUND(SUM(AD17)/SUM(L17)*100,2),""),0) | AF17: =IFERROR(IF(COUNT(OtherIND!AG17),(OtherIND!AG17),""),"") | AG17: =+IFERROR(IF(COUNT(AF17),ROUND(SUM(AF17)/SUM(L17)*100,2),""),0) | AH17: =IFERROR(IF(COUNT(OtherIND!AI17),(OtherIND!AI17),""),"") -> 13619800 | AP17: OtherIND | AZ17: Other Indian shareholders [Member] | BF17: OtherIND | BH17: OthersIndianShareholdersDomain | BN17: DetailsOfSharesHeldByOthersIndianShareholdersAxis
E18: Sub-Total (A)(1) | H18: =+IFERROR(IF(COUNT(H14:H17),ROUND(SUM(H14:H17),0),""),"") -> 5 | I18: =+IFERROR(IF(COUNT(I14:I17),ROUND(SUM(I14:I17),0),""),"") -> 38355174 | J18: =+IFERROR(IF(COUNT(J14:J17),ROUND(SUM(J14:J17),0),""),"") | K18: =+IFERROR(IF(COUNT(K14:K17),ROUND(SUM(K14:K17),0),""),"") | L18: =+IFERROR(IF(COUNT(L14:L17),ROUND(SUM(L14:L17),0),""),"") -> 38355174 | M18: =+IFERROR(IF(COUNT(L18),ROUND(L18/'Shareholding Pattern'!$L$78*100,2),""),0) -> 68.44 | N18: =+IFERROR(IF(COUNT(N14:N17),ROUND(SUM(N14:N17),0),""),"") -> 38355174 | O18: =+IFERROR(IF(COUNT(O14:O17),ROUND(SUM(O14:O17),0),""),"") | P18: =+IFERROR(IF(COUNT(P14:P17),ROUND(SUM(P14:P17),0),""),"") -> 38355174 | Q18: =IFERROR(IF(COUNT(P18),ROUND(P18/$P$79*100,2),""),0) -> 68.44 | R18: =+IFERROR(IF(COUNT(R14:R17),ROUND(SUM(R14:R17),0),""),"") | S18: =+IFERROR(IF(COUNT(S14:S17),ROUND(SUM(S14:S17),0),""),"") | T18: =+IFERROR(IF(COUNT(T14:T17),ROUND(SUM(T14:T17),0),""),"") | U18: =+IFERROR(IF(COUNT(U14:U17),ROUND(SUM(U14:U17),0),""),"") | V18: =+IFERROR(IF(COUNT(V14:V17),ROUND(SUM(V14:V17),0),""),"") -> 38355174 | W18: =+IFERROR(IF(COUNT(L18,U18),ROUND(SUM(L18,U18)/SUM('Shareholding Pattern'!$L$78,'Shareholding Pattern'!$U$78)*100,2),""),0) -> 68.44 | X18: =+IFERROR(IF(COUNT(X14:X17),ROUND(SUM(X14:X17),0),""),"") | Y18: =+IFERROR(IF(COUNT(X18),ROUND(SUM(X18)/SUM(L18)*100,2),""),0) | Z18: =+IFERROR(IF(COUNT(Z14:Z17),ROUND(SUM(Z14:Z17),0),""),"") | AA18: =+IFERROR(IF(COUNT(Z18),ROUND(SUM(Z18)/SUM(L18)*100,2),""),0) | AB18: =+IFERROR(IF(COUNT(AB14:AB17),ROUND(SUM(AB14:AB17),0),""),"") | AC18: =+IFERROR(IF(COUNT(AB18),ROUND(SUM(AB18)/SUM(L18)*100,2),""),0) | AD18: =+IFERROR(IF(COUNT(AD14:AD17),ROUND(SUM(AD14:AD17),0),""),"") | AE18: =+IFERROR(IF(COUNT(AD18),ROUND(SUM(AD18)/SUM(L18)*100,2),""),0) | AF18: =+IFERROR(IF(COUNT(AF14:AF17),ROUND(SUM(AF14:AF17),0),""),"") | AG18: =+IFERROR(IF(COUNT(AF18),ROUND(SUM(AF18)/SUM(L18)*100,2),""),0) | AH18: =+IFERROR(IF(COUNT(AH14:AH17),ROUND(SUM(AH14:AH17),0),""),"") -> 38355174 | AZ18: Indian [Member] | BF18: Individuals | BH18: NonResidentIndividualsOrForeignIndividualsDomain | BN18: DetailsOfSharesHeldByNonResidentIndividualsOrForeignIndividualsAxis
E19: (2) | F19: Foreign | BF19: Government | BH19: ForeignGovernmentDomain | BN19: DetailsOfSharesHeldByForeignGovernmentAxis
E20: (a) | F20: Individuals (NonResident Individuals/ Foreign Individuals) | H20: =IFERROR(IF(COUNT(Individuals!$AL$13),IF(Individuals!$AL$13=0,"0",Individuals!$AL$13),""),"") | I20: =IFERROR(IF(COUNT(Individuals!H16),(Individuals!H16),""),"") | J20: =IFERROR(IF(COUNT(Individuals!I16),(Individuals!I16),""),"") | K20: =IFERROR(IF(COUNT(Individuals!J16),(Individuals!J16),""),"") | L20: =IFERROR(IF(COUNT(Individuals!K16),(Individuals!K16),""),"") | M20: =+IFERROR(IF(COUNT(L20),ROUND(L20/'Shareholding Pattern'!$L$78*100,2),""),0) | N20: =IFERROR(IF(COUNT(Individuals!M16),(Individuals!M16),""),"") | O20: =IFERROR(IF(COUNT(Individuals!N16),(Individuals!N16),""),"") | P20: =IFERROR(IF(COUNT(Individuals!O16),(Individuals!O16),""),"") | Q20: =IFERROR(IF(COUNT(Individuals!P16),(Individuals!P16),""),0) | R20: =IFERROR(IF(COUNT(Individuals!Q16),(Individuals!Q16),""),"") | S20: =IFERROR(IF(COUNT(Individuals!R16),(Individuals!R16),""),"") | T20: =IFERROR(IF(COUNT(Individuals!S16),(Individuals!S16),""),"") | U20: =IFERROR(IF(COUNT(Individuals!T16),(Individuals!T16),""),"") | V20: =IFERROR(IF(COUNT(Individuals!U16),(Individuals!U16),""),"") | W20: =+IFERROR(IF(COUNT(L20,U20),ROUND(SUM(L20,U20)/SUM('Shareholding Pattern'!$L$78,'Shareholding Pattern'!$U$78)*100,2),""),0) | X20: =IFERROR(IF(COUNT(Individuals!W16),(Individuals!W16),""),"") | Y20: =+IFERROR(IF(COUNT(X20),ROUND(SUM(X20)/SUM(L20)*100,2),""),0) | Z20: =IFERROR(IF(COUNT(Individuals!Y16),(Individuals!Y16),""),"") | AA20: =+IFERROR(IF(COUNT(Z20),ROUND(SUM(Z20)/SUM(L20)*100,2),""),0) | AB20: =IFERROR(IF(COUNT(Individuals!AA16),(Individuals!AA16),""),"") | AC20: =+IFERROR(IF(COUNT(AB20),ROUND(SUM(AB20)/SUM(L20)*100,2),""),0) | AD20: =IFERROR(IF(COUNT(Individuals!AC16),(Individuals!AC16),""),"") | AE20: =+IFERROR(IF(COUNT(AD20),ROUND(SUM(AD20)/SUM(L20)*100,2),""),0) | AF20: =IFERROR(IF(COUNT(Individuals!AE16),(Individuals!AE16),""),"") | AG20: =+IFERROR(IF(COUNT(AF20),ROUND(SUM(AF20)/SUM(L20)*100,2),""),0) | AH20: =IFERROR(IF(COUNT(Individuals!AG16),(Individuals!AG16),""),"") | AP20: Individuals | AZ20: Non-resident individuals or foreign individuals [Member] | BF20: Institutions | BH20: ForeignInstitutionsDomain | BN20: DetailsOfSharesHeldByForeignInstitutionsAxis
E21: (b) | F21: Government | H21: =IFERROR(IF(COUNT(Government!$AL$13),IF(Government!$AL$13=0,"0",Government!$AL$13),""),"") | I21: =IFERROR(IF(COUNT(Government!H16),(Government!H16),""),"") | J21: =IFERROR(IF(COUNT(Government!I16),(Government!I16),""),"") | K21: =IFERROR(IF(COUNT(Government!J16),(Government!J16),""),"") | L21: =IFERROR(IF(COUNT(Government!K16),(Government!K16),""),"") | M21: =+IFERROR(IF(COUNT(L21),ROUND(L21/'Shareholding Pattern'!$L$78*100,2),""),0) | N21: =IFERROR(IF(COUNT(Government!M16),(Government!M16),""),"") | O21: =IFERROR(IF(COUNT(Government!N16),(Government!N16),""),"") | P21: =IFERROR(IF(COUNT(Government!O16),(Government!O16),""),"") | Q21: =IFERROR(IF(COUNT(Government!P16),(Government!P16),""),0) | R21: =IFERROR(IF(COUNT(Government!Q16),(Government!Q16),""),"") | S21: =IFERROR(IF(COUNT(Government!R16),(Government!R16),""),"") | T21: =IFERROR(IF(COUNT(Government!S16),(Government!S16),""),"") | U21: =IFERROR(IF(COUNT(Government!T16),(Government!T16),""),"") | V21: =IFERROR(IF(COUNT(Government!U16),(Government!U16),""),"") | W21: =+IFERROR(IF(COUNT(L21,U21),ROUND(SUM(L21,U21)/SUM('Shareholding Pattern'!$L$78,'Shareholding Pattern'!$U$78)*100,2),""),0) | X21: =IFERROR(IF(COUNT(Government!W16),(Government!W16),""),"") | Y21: =+IFERROR(IF(COUNT(X21),ROUND(SUM(X21)/SUM(L21)*100,2),""),0) | Z21: =IFERROR(IF(COUNT(Government!Y16),(Government!Y16),""),"") | AA21: =+IFERROR(IF(COUNT(Z21),ROUND(SUM(Z21)/SUM(L21)*100,2),""),0) | AB21: =IFERROR(IF(COUNT(Government!AA16),(Government!AA16),""),"") | AC21: =+IFERROR(IF(COUNT(AB21),ROUND(SUM(AB21)/SUM(L21)*100,2),""),0) | AD21: =IFERROR(IF(COUNT(Government!AC16),(Government!AC16),""),"") | AE21: =+IFERROR(IF(COUNT(AD21),ROUND(SUM(AD21)/SUM(L21)*100,2),""),0) | AF21: =IFERROR(IF(COUNT(Government!AE16),(Government!AE16),""),"") | AG21: =+IFERROR(IF(COUNT(AF21),ROUND(SUM(AF21)/SUM(L21)*100,2),""),0) | AH21: =IFERROR(IF(COUNT(Government!AG16),(Government!AG16),""),"") | AP21: Government | AZ21: Foreign - Government [Member] | BF21: FPIPromoter | BH21: ForeignPortfolioInvestorDomain | BN21: DetailsOfSharesHeldByForeignPortfolioInvestorAxis
E22: (c) | F22: Institutions | H22: =IFERROR(IF(COUNT(Institutions!$AL$13),IF(Institutions!$AL$13=0,"0",Institutions!$AL$13),""),"") | I22: =IFERROR(IF(COUNT(Institutions!H16),(Institutions!H16),""),"") | J22: =IFERROR(IF(COUNT(Institutions!I16),(Institutions!I16),""),"") | K22: =IFERROR(IF(COUNT(Institutions!J16),(Institutions!J16),""),"") | L22: =IFERROR(IF(COUNT(Institutions!K16),(Institutions!K16),""),"") | M22: =+IFERROR(IF(COUNT(L22),ROUND(L22/'Shareholding Pattern'!$L$78*100,2),""),0) | N22: =IFERROR(IF(COUNT(Institutions!M16),(Institutions!M16),""),"") | O22: =IFERROR(IF(COUNT(Institutions!N16),(Institutions!N16),""),"") | P22: =IFERROR(IF(COUNT(Institutions!O16),(Institutions!O16),""),"") | Q22: =IFERROR(IF(COUNT(Institutions!P16),(Institutions!P16),""),0) | R22: =IFERROR(IF(COUNT(Institutions!Q16),(Institutions!Q16),""),"") | S22: =IFERROR(IF(COUNT(Institutions!R16),(Institutions!R16),""),"") | T22: =IFERROR(IF(COUNT(Institutions!S16),(Institutions!S16),""),"") | U22: =IFERROR(IF(COUNT(Institutions!T16),(Institutions!T16),""),"") | V22: =IFERROR(IF(COUNT(Institutions!U16),(Institutions!U16),""),"") | W22: =+IFERROR(IF(COUNT(L22,U22),ROUND(SUM(L22,U22)/SUM('Shareholding Pattern'!$L$78,'Shareholding Pattern'!$U$78)*100,2),""),0) | X22: =IFERROR(IF(COUNT(Institutions!W16),(Institutions!W16),""),"") | Y22: =+IFERROR(IF(COUNT(X22),ROUND(SUM(X22)/SUM(L22)*100,2),""),0) | Z22: =IFERROR(IF(COUNT(Institutions!Y16),(Institutions!Y16),""),"") | AA22: =+IFERROR(IF(COUNT(Z22),ROUND(SUM(Z22)/SUM(L22)*100,2),""),0) | AB22: =IFERROR(IF(COUNT(Institutions!AA16),(Institutions!AA16),""),"") | AC22: =+IFERROR(IF(COUNT(AB22),ROUND(SUM(AB22)/SUM(L22)*100,2),""),0) | AD22: =IFERROR(IF(COUNT(Institutions!AC16),(Institutions!AC16),""),"") | AE22: =+IFERROR(IF(COUNT(AD22),ROUND(SUM(AD22)/SUM(L22)*100,2),""),0) | AF22: =IFERROR(IF(COUNT(Institutions!AE16),(Institutions!AE16),""),"") | AG22: =+IFERROR(IF(COUNT(AF22),ROUND(SUM(AF22)/SUM(L22)*100,2),""),0) | AH22: =IFERROR(IF(COUNT(Institutions!AG16),(Institutions!AG16),""),"") | AP22: Institutions | AZ22: Foreign - institutions [Member] | BF22: OtherForeign | BH22: OtherForeignShareholdersDomain | BN22: DetailsOfSharesHeldByOtherForeignShareholdersAxis
E23: (d) | F23: Foreign Portfolio Investor | H23: =IFERROR(IF(COUNT(FPIPromoter!$AL$13),IF(FPIPromoter!$AL$13=0,"0",FPIPromoter!$AL$13),""),"") | I23: =IFERROR(IF(COUNT(FPIPromoter!H16),(FPIPromoter!H16),""),"") | J23: =IFERROR(IF(COUNT(FPIPromoter!I16),(FPIPromoter!I16),""),"") | K23: =IFERROR(IF(COUNT(FPIPromoter!J16),(FPIPromoter!J16),""),"") | L23: =IFERROR(IF(COUNT(FPIPromoter!K16),(FPIPromoter!K16),""),"") | M23: =+IFERROR(IF(COUNT(L23),ROUND(L23/'Shareholding Pattern'!$L$78*100,2),""),0) | N23: =IFERROR(IF(COUNT(FPIPromoter!M16),(FPIPromoter!M16),""),"") | O23: =IFERROR(IF(COUNT(FPIPromoter!N16),(FPIPromoter!N16),""),"") | P23: =IFERROR(IF(COUNT(FPIPromoter!O16),(FPIPromoter!O16),""),"") | Q23: =IFERROR(IF(COUNT(FPIPromoter!P16),(FPIPromoter!P16),""),0) | R23: =IFERROR(IF(COUNT(FPIPromoter!Q16),(FPIPromoter!Q16),""),"") | S23: =IFERROR(IF(COUNT(FPIPromoter!R16),(FPIPromoter!R16),""),"") | T23: =IFERROR(IF(COUNT(FPIPromoter!S16),(FPIPromoter!S16),""),"") | U23: =IFERROR(IF(COUNT(FPIPromoter!T16),(FPIPromoter!T16),""),"") | V23: =IFERROR(IF(COUNT(FPIPromoter!U16),(FPIPromoter!U16),""),"") | W23: =+IFERROR(IF(COUNT(L23,U23),ROUND(SUM(L23,U23)/SUM('Shareholding Pattern'!$L$78,'Shareholding Pattern'!$U$78)*100,2),""),0) | X23: =IFERROR(IF(COUNT(FPIPromoter!W16),(FPIPromoter!W16),""),"") | Y23: =+IFERROR(IF(COUNT(X23),ROUND(SUM(X23)/SUM(L23)*100,2),""),0) | Z23: =IFERROR(IF(COUNT(FPIPromoter!Y16),(FPIPromoter!Y16),""),"") | AA23: =+IFERROR(IF(COUNT(Z23),ROUND(SUM(Z23)/SUM(L23)*100,2),""),0) | AB23: =IFERROR(IF(COUNT(FPIPromoter!AA16),(FPIPromoter!AA16),""),"") | AC23: =+IFERROR(IF(COUNT(AB23),ROUND(SUM(AB23)/SUM(L23)*100,2),""),0) | AD23: =IFERROR(IF(COUNT(FPIPromoter!AC16),(FPIPromoter!AC16),""),"") | AE23: =+IFERROR(IF(COUNT(AD23),ROUND(SUM(AD23)/SUM(L23)*100,2),""),0) | AF23: =IFERROR(IF(COUNT(FPIPromoter!AE16),(FPIPromoter!AE16),""),"") | AG23: =+IFERROR(IF(COUNT(AF23),ROUND(SUM(AF23)/SUM(L23)*100,2),""),0) | AH23: =IFERROR(IF(COUNT(FPIPromoter!AG16),(FPIPromoter!AG16),""),"") | AP23: FPIPromoter | AZ23: Foreign portfolio investor [Member]
E24: (e) | F24: Any Other (specify) | H24: =IFERROR(IF(COUNT(OtherForeign!$AO$13),IF(OtherForeign!$AO$13=0,"0",OtherForeign!$AO$13),""),"") | I24: =IFERROR(IF(COUNT(OtherForeign!J16),(OtherForeign!J16),""),"") | J24: =IFERROR(IF(COUNT(OtherForeign!K16),(OtherForeign!K16),""),"") | K24: =IFERROR(IF(COUNT(OtherForeign!L16),(OtherForeign!L16),""),"") | L24: =IFERROR(IF(COUNT(OtherForeign!M16),(OtherForeign!M16),""),"") | M24: =+IFERROR(IF(COUNT(L24),ROUND(L24/'Shareholding Pattern'!$L$78*100,2),""),0) | N24: =IFERROR(IF(COUNT(OtherForeign!O16),(OtherForeign!O16),""),"") | O24: =IFERROR(IF(COUNT(OtherForeign!P16),(OtherForeign!P16),""),"") | P24: =IFERROR(IF(COUNT(OtherForeign!Q16),(OtherForeign!Q16),""),"") | Q24: =IFERROR(IF(COUNT(OtherForeign!R16),(OtherForeign!R16),""),0) | R24: =IFERROR(IF(COUNT(OtherForeign!S16),(OtherForeign!S16),""),"") | S24: =IFERROR(IF(COUNT(OtherForeign!T16),(OtherForeign!T16),""),"") | T24: =IFERROR(IF(COUNT(OtherForeign!U16),(OtherForeign!U16),""),"") | U24: =IFERROR(IF(COUNT(OtherForeign!V16),(OtherForeign!V16),""),"") | V24: =IFERROR(IF(COUNT(OtherForeign!W16),(OtherForeign!W16),""),"") | W24: =+IFERROR(IF(COUNT(L24,U24),ROUND(SUM(L24,U24)/SUM('Shareholding Pattern'!$L$78,'Shareholding Pattern'!$U$78)*100,2),""),0) | X24: =IFERROR(IF(COUNT(OtherForeign!Y16),(OtherForeign!Y16),""),"") | Y24: =+IFERROR(IF(COUNT(X24),ROUND(SUM(X24)/SUM(L24)*100,2),""),0) | Z24: =IFERROR(IF(COUNT(OtherForeign!AA16),(OtherForeign!AA16),""),"") | AA24: =+IFERROR(IF(COUNT(Z24),ROUND(SUM(Z24)/SUM(L24)*100,2),""),0) | AB24: =IFERROR(IF(COUNT(OtherForeign!AC16),(OtherForeign!AC16),""),"") | AC24: =+IFERROR(IF(COUNT(AB24),ROUND(SUM(AB24)/SUM(L24)*100,2),""),0) | AD24: =IFERROR(IF(COUNT(OtherForeign!AE16),(OtherForeign!AE16),""),"") | AE24: =+IFERROR(IF(COUNT(AD24),ROUND(SUM(AD24)/SUM(L24)*100,2),""),0) | AF24: =IFERROR(IF(COUNT(OtherForeign!AG16),(OtherForeign!AG16),""),"") | AG24: =+IFERROR(IF(COUNT(AF24),ROUND(SUM(AF24)/SUM(L24)*100,2),""),0) | AH24: =IFERROR(IF(COUNT(OtherForeign!AI16),(OtherForeign!AI16),""),"") | AP24: OtherForeign | AZ24: Other foreign shareholders [Member]
E25: Sub-Total (A)(2) | H25: =+IFERROR(IF(COUNT(H20:H24),ROUND(SUM(H20:H24),0),""),"") | I25: =+IFERROR(IF(COUNT(I20:I24),ROUND(SUM(I20:I24),0),""),"") | J25: =+IFERROR(IF(COUNT(J20:J24),ROUND(SUM(J20:J24),0),""),"") | K25: =+IFERROR(IF(COUNT(K20:K24),ROUND(SUM(K20:K24),0),""),"") | L25: =+IFERROR(IF(COUNT(L20:L24),ROUND(SUM(L20:L24),0),""),"") | M25: =+IFERROR(IF(COUNT(L25),ROUND(L25/'Shareholding Pattern'!$L$78*100,2),""),0) | N25: =+IFERROR(IF(COUNT(N20:N24),ROUND(SUM(N20:N24),0),""),"") | O25: =+IFERROR(IF(COUNT(O20:O24),ROUND(SUM(O20:O24),0),""),"") | P25: =+IFERROR(IF(COUNT(P20:P24),ROUND(SUM(P20:P24),0),""),"") | Q25: =IFERROR(IF(COUNT(P25),ROUND(P25/$P$79*100,2),""),0) | R25: =+IFERROR(IF(COUNT(R20:R24),ROUND(SUM(R20:R24),0),""),"") | S25: =+IFERROR(IF(COUNT(S20:S24),ROUND(SUM(S20:S24),0),""),"") | T25: =+IFERROR(IF(COUNT(T20:T24),ROUND(SUM(T20:T24),0),""),"") | U25: =+IFERROR(IF(COUNT(U20:U24),ROUND(SUM(U20:U24),0),""),"") | V25: =+IFERROR(IF(COUNT(V20:V24),ROUND(SUM(V20:V24),0),""),"") | W25: =+IFERROR(IF(COUNT(L25,U25),ROUND(SUM(L25,U25)/SUM('Shareholding Pattern'!$L$78,'Shareholding Pattern'!$U$78)*100,2),""),0) | X25: =+IFERROR(IF(COUNT(X20:X24),ROUND(SUM(X20:X24),0),""),"") | Y25: =+IFERROR(IF(COUNT(X25),ROUND(SUM(X25)/SUM(L25)*100,2),""),0) | Z25: =+IFERROR(IF(COUNT(Z20:Z24),ROUND(SUM(Z20:Z24),0),""),"") | AA25: =+IFERROR(IF(COUNT(Z25),ROUND(SUM(Z25)/SUM(L25)*100,2),""),0) | AB25: =+IFERROR(IF(COUNT(AB20:AB24),ROUND(SUM(AB20:AB24),0),""),"") | AC25: =+IFERROR(IF(COUNT(AB25),ROUND(SUM(AB25)/SUM(L25)*100,2),""),0) | AD25: =+IFERROR(IF(COUNT(AD20:AD24),ROUND(SUM(AD20:AD24),0),""),"") | AE25: =+IFERROR(IF(COUNT(AD25),ROUND(SUM(AD25)/SUM(L25)*100,2),""),0) | AF25: =+IFERROR(IF(COUNT(AF20:AF24),ROUND(SUM(AF20:AF24),0),""),"") | AG25: =+IFERROR(IF(COUNT(AF25),ROUND(SUM(AF25)/SUM(L25)*100,2),""),0) | AH25: =+IFERROR(IF(COUNT(AH20:AH24),ROUND(SUM(AH20:AH24),0),""),"") | AZ25: Foreign [Member]
E26: Total Shareholding of Promoter and Promoter Group (A)=(A)(1)+(A)(2) | H26: =+IFERROR(IF(COUNT(H18,H25),ROUND(SUM(H18,H25),0),""),"") -> 5 | I26: =+IFERROR(IF(COUNT(I18,I25),ROUND(SUM(I18,I25),0),""),"") -> 38355174 | J26: =+IFERROR(IF(COUNT(J18,J25),ROUND(SUM(J18,J25),0),""),"") | K26: =+IFERROR(IF(COUNT(K18,K25),ROUND(SUM(K18,K25),0),""),"") | L26: =+IFERROR(IF(COUNT(L18,L25),ROUND(SUM(L18,L25),0),""),"") -> 38355174 | M26: =+IFERROR(IF(COUNT(L26),ROUND(L26/'Shareholding Pattern'!$L$78*100,2),""),0) -> 68.44 | N26: =+IFERROR(IF(COUNT(N18,N25),ROUND(SUM(N18,N25),0),""),"") -> 38355174 | O26: =+IFERROR(IF(COUNT(O18,O25),ROUND(SUM(O18,O25),0),""),"") | P26: =+IFERROR(IF(COUNT(P18,P25),ROUND(SUM(P18,P25),0),""),"") -> 38355174 | Q26: =IFERROR(IF(COUNT(P26),ROUND(P26/$P$79*100,2),""),0) -> 68.44 | R26: =+IFERROR(IF(COUNT(R18,R25),ROUND(SUM(R18,R25),0),""),"") | S26: =+IFERROR(IF(COUNT(S18,S25),ROUND(SUM(S18,S25),0),""),"") | T26: =+IFERROR(IF(COUNT(T18,T25),ROUND(SUM(T18,T25),0),""),"") | U26: =+IFERROR(IF(COUNT(U18,U25),ROUND(SUM(U18,U25),0),""),"") | V26: =+IFERROR(IF(COUNT(V18,V25),ROUND(SUM(V18,V25),0),""),"") -> 38355174 | W26: =+IFERROR(IF(COUNT(L26,U26),ROUND(SUM(L26,U26)/SUM('Shareholding Pattern'!$L$78,'Shareholding Pattern'!$U$78)*100,2),""),0) -> 68.44 | X26: =+IFERROR(IF(COUNT(X18,X25),ROUND(SUM(X18,X25),0),""),"") | Y26: =+IFERROR(IF(COUNT(X26),ROUND(SUM(X26)/SUM(L26)*100,2),""),0) | Z26: =+IFERROR(IF(COUNT(Z18,Z25),ROUND(SUM(Z18,Z25),0),""),"") | AA26: =+IFERROR(IF(COUNT(Z26),ROUND(SUM(Z26)/SUM(L26)*100,2),""),0) | AB26: =+IFERROR(IF(COUNT(AB18,AB25),ROUND(SUM(AB18,AB25),0),""),"") | AC26: =+IFERROR(IF(COUNT(AB26),ROUND(SUM(AB26)/SUM(L26)*100,2),""),0) | AD26: =+IFERROR(IF(COUNT(AD18,AD25),ROUND(SUM(AD18,AD25),0),""),"") | AE26: =+IFERROR(IF(COUNT(AD26),ROUND(SUM(AD26)/SUM(L26)*100,2),""),0) | AF26: =+IFERROR(IF(COUNT(AF18,AF25),ROUND(SUM(AF18,AF25),0),""),"") | AG26: =+IFERROR(IF(COUNT(AF26),ROUND(SUM(AF26)/SUM(L26)*100,2),""),0) | AH26: =+IFERROR(IF(COUNT(AH18,AH25),ROUND(SUM(AH18,AH25),0),""),"") -> 38355174 | AZ26: Shareholding of promoter and promoter group [Member]
F27: Details of Shares which remain unclaimed for Promoter & Promoter Group
E28: B | F28: Table III - Statement showing shareholding pattern of the Public shareholder | H28: Note : Kindly show details of shareholders having more than one percentage of total no of shares. Please refer software manual.
E29: (1) | F29: Institutions (Domestic)
E30: (a) | F30: Mutual Funds | L30: =+IFERROR(IF(COUNT(I30:K30),ROUND(SUM(I30:K30),0),""),"") | M30: =+IFERROR(IF(COUNT(L30),ROUND(L30/'Shareholding Pattern'!$L$78*100,2),""),"") | N30: =IF(I30="","",I30) | P30: =+IFERROR(IF(COUNT(N30:O30),ROUND(SUM(N30:O30),0),""),"") | Q30: =+IFERROR(IF(COUNT(P30),ROUND(P30/'Shareholding Pattern'!$P$79*100,2),""),"") | U30: =+IFERROR(IF(COUNT(R30:T30),ROUND(SUM(R30:T30),0),""),"") | V30: =+IFERROR(IF(COUNT(L30,U30),ROUND(SUM(L30,U30),0),""),"") | W30: =+IFERROR(IF(COUNT(L30,U30),ROUND(SUM(L30,U30)/SUM('Shareholding Pattern'!$L$78,'Shareholding Pattern'!$U$78)*100,2),""),"") | Y30: =+IFERROR(IF(COUNT(X30),ROUND(SUM(X30)/SUM(L30)*100,2),""),0) | AP30: MutuaFund | AZ30: Mutual funds or UTI [Member] | BF30: MutuaFund | BH30: MutualFundsOrUTIDomain | BN30: DetailsOfSharesHeldByMutualFundsOrUTIAxis
E31: (b) | F31: Venture Capital Funds | L31: =+IFERROR(IF(COUNT(I31:K31),ROUND(SUM(I31:K31),0),""),"") | M31: =+IFERROR(IF(COUNT(L31),ROUND(L31/'Shareholding Pattern'!$L$78*100,2),""),"") | N31: =IF(I31="","",I31) | P31: =+IFERROR(IF(COUNT(N31:O31),ROUND(SUM(N31:O31),0),""),"") | Q31: =+IFERROR(IF(COUNT(P31),ROUND(P31/'Shareholding Pattern'!$P$79*100,2),""),"") | U31: =+IFERROR(IF(COUNT(R31:T31),ROUND(SUM(R31:T31),0),""),"") | V31: =+IFERROR(IF(COUNT(L31,U31),ROUND(SUM(L31,U31),0),""),"") | W31: =+IFERROR(IF(COUNT(L31,U31),ROUND(SUM(L31,U31)/SUM('Shareholding Pattern'!$L$78,'Shareholding Pattern'!$U$78)*100,2),""),"") | Y31: =+IFERROR(IF(COUNT(X31),ROUND(SUM(X31)/SUM(L31)*100,2),""),0) | AP31: VentureCap | AZ31: Venture capital funds [Member] | BF31: VentureCap | BH31: VentureCapitalFundsDomain | BN31: DetailsOfSharesHeldByVentureCapitalFundsAxis
E32: (c) | F32: Alternate Investment Funds | L32: =+IFERROR(IF(COUNT(I32:K32),ROUND(SUM(I32:K32),0),""),"") | M32: =+IFERROR(IF(COUNT(L32),ROUND(L32/'Shareholding Pattern'!$L$78*100,2),""),"") | N32: =IF(I32="","",I32) | P32: =+IFERROR(IF(COUNT(N32:O32),ROUND(SUM(N32:O32),0),""),"") | Q32: =+IFERROR(IF(COUNT(P32),ROUND(P32/'Shareholding Pattern'!$P$79*100,2),""),"") | U32: =+IFERROR(IF(COUNT(R32:T32),ROUND(SUM(R32:T32),0),""),"") | V32: =+IFERROR(IF(COUNT(L32,U32),ROUND(SUM(L32,U32),0),""),"") | W32: =+IFERROR(IF(COUNT(L32,U32),ROUND(SUM(L32,U32)/SUM('Shareholding Pattern'!$L$78,'Shareholding Pattern'!$U$78)*100,2),""),"") | Y32: =+IFERROR(IF(COUNT(X32),ROUND(SUM(X32)/SUM(L32)*100,2),""),0) | AP32: AIF | AZ32: Alternative investment funds [Member] | BF32: AIF | BH32: AlternativeInvestmentFundsDomain | BN32: DetailsOfSharesHeldByAlternativeInvestmentFundsAxis
E33: (d) | F33: Banks | L33: =+IFERROR(IF(COUNT(I33:K33),ROUND(SUM(I33:K33),0),""),"") | M33: =+IFERROR(IF(COUNT(L33),ROUND(L33/'Shareholding Pattern'!$L$78*100,2),""),"") | N33: =IF(I33="","",I33) | P33: =+IFERROR(IF(COUNT(N33:O33),ROUND(SUM(N33:O33),0),""),"") | Q33: =+IFERROR(IF(COUNT(P33),ROUND(P33/'Shareholding Pattern'!$P$79*100,2),""),"") | U33: =+IFERROR(IF(COUNT(R33:T33),ROUND(SUM(R33:T33),0),""),"") | V33: =+IFERROR(IF(COUNT(L33,U33),ROUND(SUM(L33,U33),0),""),"") | W33: =+IFERROR(IF(COUNT(L33,U33),ROUND(SUM(L33,U33)/SUM('Shareholding Pattern'!$L$78,'Shareholding Pattern'!$U$78)*100,2),""),"") | Y33: =+IFERROR(IF(COUNT(X33),ROUND(SUM(X33)/SUM(L33)*100,2),""),0) | AP33: Bank_Insti | AZ33: Banks [Member] | BF33: Bank_Insti | BH33: DetailsOfSharesHeldByBanksDomain | BN33: DetailsOfSharesHeldByBanksAxis
E34: (e) | F34: Insurance Companies | L34: =+IFERROR(IF(COUNT(I34:K34),ROUND(SUM(I34:K34),0),""),"") | M34: =+IFERROR(IF(COUNT(L34),ROUND(L34/'Shareholding Pattern'!$L$78*100,2),""),"") | N34: =IF(I34="","",I34) | P34: =+IFERROR(IF(COUNT(N34:O34),ROUND(SUM(N34:O34),0),""),"") | Q34: =+IFERROR(IF(COUNT(P34),ROUND(P34/'Shareholding Pattern'!$P$79*100,2),""),"") | U34: =+IFERROR(IF(COUNT(R34:T34),ROUND(SUM(R34:T34),0),""),"") | V34: =+IFERROR(IF(COUNT(L34,U34),ROUND(SUM(L34,U34),0),""),"") | W34: =+IFERROR(IF(COUNT(L34,U34),ROUND(SUM(L34,U34)/SUM('Shareholding Pattern'!$L$78,'Shareholding Pattern'!$U$78)*100,2),""),"") | Y34: =+IFERROR(IF(COUNT(X34),ROUND(SUM(X34)/SUM(L34)*100,2),""),0) | AP34: Insurance | AZ34: Insurance Companies [Member] | BF34: Insurance | BH34: InsuranceCompaniesDomain | BN34: DetailsOfSharesHeldByInsuranceCompaniesAxis
E35: (f) | F35: Provident Funds/ Pension Funds | L35: =+IFERROR(IF(COUNT(I35:K35),ROUND(SUM(I35:K35),0),""),"") | M35: =+IFERROR(IF(COUNT(L35),ROUND(L35/'Shareholding Pattern'!$L$78*100,2),""),"") | N35: =IF(I35="","",I35) | P35: =+IFERROR(IF(COUNT(N35:O35),ROUND(SUM(N35:O35),0),""),"") | Q35: =+IFERROR(IF(COUNT(P35),ROUND(P35/'Shareholding Pattern'!$P$79*100,2),""),"") | U35: =+IFERROR(IF(COUNT(R35:T35),ROUND(SUM(R35:T35),0),""),"") | V35: =+IFERROR(IF(COUNT(L35,U35),ROUND(SUM(L35,U35),0),""),"") | W35: =+IFERROR(IF(COUNT(L35,U35),ROUND(SUM(L35,U35)/SUM('Shareholding Pattern'!$L$78,'Shareholding Pattern'!$U$78)*100,2),""),"") | Y35: =+IFERROR(IF(COUNT(X35),ROUND(SUM(X35)/SUM(L35)*100,2),""),0) | AP35: Pension | AZ35: Provident Funds or pension funds [Member] | BF35: Pension | BH35: ProvidentFundsOrPensionFundsDomain | BN35: DetailsOfSharesHeldByProvidentFundsOrPensionFundsAxis
E36: (g) | F36: Asset reconstruction companies | L36: =+IFERROR(IF(COUNT(I36:K36),ROUND(SUM(I36:K36),0),""),"") | M36: =+IFERROR(IF(COUNT(L36),ROUND(L36/'Shareholding Pattern'!$L$78*100,2),""),"") | N36: =IF(I36="","",I36) | P36: =+IFERROR(IF(COUNT(N36:O36),ROUND(SUM(N36:O36),0),""),"") | Q36: =+IFERROR(IF(COUNT(P36),ROUND(P36/'Shareholding Pattern'!$P$79*100,2),""),"") | U36: =+IFERROR(IF(COUNT(R36:T36),ROUND(SUM(R36:T36),0),""),"") | V36: =+IFERROR(IF(COUNT(L36,U36),ROUND(SUM(L36,U36),0),""),"") | W36: =+IFERROR(IF(COUNT(L36,U36),ROUND(SUM(L36,U36)/SUM('Shareholding Pattern'!$L$78,'Shareholding Pattern'!$U$78)*100,2),""),"") | Y36: =+IFERROR(IF(COUNT(X36),ROUND(SUM(X36)/SUM(L36)*100,2),""),0) | AP36: AssetReconstruct | AZ36: Asset reconstruction companies [Member] | BF36: AssetReconstruct | BH36: DetailsOfSharesHeldByAssetReconstructionCompaniesDomain | BN36: DetailsOfSharesHeldByAssetReconstructionCompaniesAxis
E37: (h) | F37: Sovereign Wealth Funds | L37: =+IFERROR(IF(COUNT(I37:K37),ROUND(SUM(I37:K37),0),""),"") | M37: =+IFERROR(IF(COUNT(L37),ROUND(L37/'Shareholding Pattern'!$L$78*100,2),""),"") | N37: =IF(I37="","",I37) | P37: =+IFERROR(IF(COUNT(N37:O37),ROUND(SUM(N37:O37),0),""),"") | Q37: =+IFERROR(IF(COUNT(P37),ROUND(P37/'Shareholding Pattern'!$P$79*100,2),""),"") | U37: =+IFERROR(IF(COUNT(R37:T37),ROUND(SUM(R37:T37),0),""),"") | V37: =+IFERROR(IF(COUNT(L37,U37),ROUND(SUM(L37,U37),0),""),"") | W37: =+IFERROR(IF(COUNT(L37,U37),ROUND(SUM(L37,U37)/SUM('Shareholding Pattern'!$L$78,'Shareholding Pattern'!$U$78)*100,2),""),"") | Y37: =+IFERROR(IF(COUNT(X37),ROUND(SUM(X37)/SUM(L37)*100,2),""),0) | AP37: Sovereign Wealth(Domestic) | AZ37: Sovereign wealth funds domestic [Member] | BF37: Sovereign Wealth(Domestic) | BH37: DetailsOfSharesHeldBySovereignWealthFundsDomesticDomain | BN37: DetailsOfSharesHeldBySovereignWealthFundsDomesticAxis
E38: (i) | F38: NBFCs registered with RBI | L38: =+IFERROR(IF(COUNT(I38:K38),ROUND(SUM(I38:K38),0),""),"") | M38: =+IFERROR(IF(COUNT(L38),ROUND(L38/'Shareholding Pattern'!$L$78*100,2),""),"") | N38: =IF(I38="","",I38) | P38: =+IFERROR(IF(COUNT(N38:O38),ROUND(SUM(N38:O38),0),""),"") | Q38: =+IFERROR(IF(COUNT(P38),ROUND(P38/'Shareholding Pattern'!$P$79*100,2),""),"") | U38: =+IFERROR(IF(COUNT(R38:T38),ROUND(SUM(R38:T38),0),""),"") | V38: =+IFERROR(IF(COUNT(L38,U38),ROUND(SUM(L38,U38),0),""),"") | W38: =+IFERROR(IF(COUNT(L38,U38),ROUND(SUM(L38,U38)/SUM('Shareholding Pattern'!$L$78,'Shareholding Pattern'!$U$78)*100,2),""),"") | Y38: =+IFERROR(IF(COUNT(X38),ROUND(SUM(X38)/SUM(L38)*100,2),""),0) | AP38: NBFC | AZ38: NBFCs registered with RBI [Member] | BF38: NBFC | BH38: NBFCsRegisteredWithRBIDomain | BN38: DetailsOfSharesHeldByNBFCsRegisteredWithRBIAxis
E39: (j) | F39: Other Financial Institutions | L39: =+IFERROR(IF(COUNT(I39:K39),ROUND(SUM(I39:K39),0),""),"") | M39: =+IFERROR(IF(COUNT(L39),ROUND(L39/'Shareholding Pattern'!$L$78*100,2),""),"") | N39: =IF(I39="","",I39) | P39: =+IFERROR(IF(COUNT(N39:O39),ROUND(SUM(N39:O39),0),""),"") | Q39: =+IFERROR(IF(COUNT(P39),ROUND(P39/'Shareholding Pattern'!$P$79*100,2),""),"") | U39: =+IFERROR(IF(COUNT(R39:T39),ROUND(SUM(R39:T39),0),""),"") | V39: =+IFERROR(IF(COUNT(L39,U39),ROUND(SUM(L39,U39),0),""),"") | W39: =+IFERROR(IF(COUNT(L39,U39),ROUND(SUM(L39,U39)/SUM('Shareholding Pattern'!$L$78,'Shareholding Pattern'!$U$78)*100,2),""),"") | Y39: =+IFERROR(IF(COUNT(X39),ROUND(SUM(X39)/SUM(L39)*100,2),""),0) | AP39: Other Financial Institutions | AZ39: Other financial institutions [Member] | BF39: Other Financial Institutions | BH39: DetailsOfSharesHeldByOtherFinancialInstitutionsDomain | BN39: DetailsOfSharesHeldByOtherFinancialInstitutionsAxis
E40: (k) | F40: Any Other (specify) | L40: =+IFERROR(IF(COUNT(I40:K40),ROUND(SUM(I40:K40),0),""),"") | M40: =+IFERROR(IF(COUNT(L40),ROUND(L40/'Shareholding Pattern'!$L$78*100,2),""),"") | N40: =IF(I40="","",I40) | P40: =+IFERROR(IF(COUNT(N40:O40),ROUND(SUM(N40:O40),0),""),"") | Q40: =+IFERROR(IF(COUNT(P40),ROUND(P40/'Shareholding Pattern'!$P$79*100,2),""),"") | U40: =+IFERROR(IF(COUNT(R40:T40),ROUND(SUM(R40:T40),0),""),"") | V40: =+IFERROR(IF(COUNT(L40,U40),ROUND(SUM(L40,U40),0),""),"") | W40: =+IFERROR(IF(COUNT(L40,U40),ROUND(SUM(L40,U40)/SUM('Shareholding Pattern'!$L$78,'Shareholding Pattern'!$U$78)*100,2),""),"") | Y40: =+IFERROR(IF(COUNT(X40),ROUND(SUM(X40)/SUM(L40)*100,2),""),0) | AP40: Other_Insti | AZ40: Other institutions domestic [Member] | BF40: Other_Insti | BH40: DetailsOfSharesHeldByOtherInstitutionsDomesticDomain | BN40: DetailsOfSharesHeldByOtherInstitutionsDomesticAxis
E41: Sub-Total (B)(1) | H41: =+IFERROR(IF(COUNT(H30:H40),ROUND(SUM(H30:H40),0),""),"") | I41: =+IFERROR(IF(COUNT(I30:I40),ROUND(SUM(I30:I40),0),""),"") | J41: =+IFERROR(IF(COUNT(J30:J40),ROUND(SUM(J30:J40),0),""),"") | K41: =+IFERROR(IF(COUNT(K30:K40),ROUND(SUM(K30:K40),0),""),"") | L41: =+IFERROR(IF(COUNT(I41:K41),ROUND(SUM(I41:K41),0),""),"") | M41: =+IFERROR(IF(COUNT(L41),ROUND(L41/'Shareholding Pattern'!$L$78*100,2),""),"") | N41: =+IFERROR(IF(COUNT(N30:N40),ROUND(SUM(N30:N40),0),""),"") | O41: =+IFERROR(IF(COUNT(O30:O40),ROUND(SUM(O30:O40),0),""),"") | P41: =+IFERROR(IF(COUNT(N41:O41),ROUND(SUM(N41:O41),0),""),"") | Q41: =+IFERROR(IF(COUNT(P41),ROUND(P41/'Shareholding Pattern'!$P$79*100,2),""),"") | R41: =+IFERROR(IF(COUNT(R30:R40),ROUND(SUM(R30:R40),0),""),"") | S41: =+IFERROR(IF(COUNT(S30:S40),ROUND(SUM(S30:S40),0),""),"") | T41: =+IFERROR(IF(COUNT(T30:T40),ROUND(SUM(T30:T40),0),""),"") | U41: =+IFERROR(IF(COUNT(R41:T41),ROUND(SUM(R41:T41),0),""),"") | V41: =+IFERROR(IF(COUNT(L41,U41),ROUND(SUM(L41,U41),0),""),"") | W41: =+IFERROR(IF(COUNT(L41,U41),ROUND(SUM(L41,U41)/SUM('Shareholding Pattern'!$L$78,'Shareholding Pattern'!$U$78)*100,2),""),"") | X41: =+IFERROR(IF(COUNT(X30:X40),ROUND(SUM(X30:X40),0),""),"") | Y41: =+IFERROR(IF(COUNT(X41),ROUND(SUM(X41)/SUM(L41)*100,2),""),0) | AH41: =+IFERROR(IF(COUNT(AH30:AH40),ROUND(SUM(AH30:AH40),0),""),"") | AI41: =+IFERROR(IF(COUNT(AI30:AI40),ROUND(SUM(AI30:AI40),0),""),"") | AJ41: =+IFERROR(IF(COUNT(AJ30:AJ40),ROUND(SUM(AJ30:AJ40),0),""),"") | AK41: =+IFERROR(IF(COUNT(AK30:AK40),ROUND(SUM(AK30:AK40),0),""),"") | AZ41: Institutions domestic [Member]
E42: (2) | F42: Institutions (Foreign)
